View In:
ArcGIS JavaScript
ArcGIS Online Map Viewer
ArcGIS Earth
Service Description: TBW
Name: DEM_Parks
Description:
Single Fused Map Cache: false
Extent:
XMin: 439627.0
YMin: 4935627.5
XMax: 482792.0
YMax: 5006618.5
Spatial Reference: 102384
(6344)
LatestVCSWkid(0)
Initial Extent:
XMin: 439627.0
YMin: 4935627.5
XMax: 482792.0
YMax: 5006618.5
Spatial Reference: 102384
(6344)
LatestVCSWkid(0)
Full Extent:
XMin: 439627.0
YMin: 4935627.5
XMax: 482792.0
YMax: 5006618.5
Spatial Reference: 102384
(6344)
LatestVCSWkid(0)
Pixel Size X: 0.5
Pixel Size Y: 0.5
Band Count: 1
Pixel Type: F32
RasterFunction Infos: {"rasterFunctionInfos": [{
"name": "None",
"description": "",
"help": ""
}]}
Mensuration Capabilities: Basic
Inspection Capabilities:
Has Histograms: true
Has Colormap: false
Has Multi Dimensions : false
Rendering Rule:
Min Scale: 0
Max Scale: 0
Copyright Text: Three Rivers Park District
Service Data Type: esriImageServiceDataTypeGeneric
Min Values: 697.8346557617188
Max Values: 1090.9547119140625
Mean Values: 933.9981768122749
Standard Deviation Values: 52.05460977949301
Object ID Field:
Fields:
None
Default Mosaic Method: Center
Allowed Mosaic Methods:
SortField:
SortValue: null
Mosaic Operator: First
Default Compression Quality: 75
Default Resampling Method: Bilinear
Max Record Count: null
Max Image Height: 4100
Max Image Width: 15000
Max Download Image Count: null
Max Mosaic Image Count: null
Allow Raster Function: true
Allow Copy: true
Allow Analysis: true
Allow Compute TiePoints: false
Supports Statistics: false
Supports Advanced Queries: false
Use StandardizedQueries: true
Raster Type Infos:
Name: Raster Dataset
Description: Supports all ArcGIS Raster Datasets
Help:
Has Raster Attribute Table: false
Edit Fields Info: null
Ownership Based AccessControl For Rasters: null
Child Resources:
Info
Histograms
Statistics
Key Properties
Legend
Raster Function Infos
Supported Operations:
Export Image
Identify
Measure
Compute Histograms
Compute Statistics Histograms
Get Samples
Compute Class Statistics
Query Boundary
Compute Pixel Location
Compute Angles
Validate
Project