{
 "currentVersion": 11.2,
 "serviceDescription": "Hillshade_Parks",
 "name": "Hillshade_Parks",
 "description": "",
 "extent": {
  "xmin": 439627.0687977481,
  "ymin": 4935627.776418409,
  "xmax": 482792.0687977481,
  "ymax": 5006626.776418409,
  "spatialReference": {
   "wkid": 102384,
   "latestWkid": 6344
  }
 },
 "initialExtent": {
  "xmin": 439627.0687977481,
  "ymin": 4935627.776418409,
  "xmax": 482792.0687977481,
  "ymax": 5006626.776418409,
  "spatialReference": {
   "wkid": 102384,
   "latestWkid": 6344
  }
 },
 "fullExtent": {
  "xmin": 439627.0687977481,
  "ymin": 4935627.776418409,
  "xmax": 482792.0687977481,
  "ymax": 5006626.776418409,
  "spatialReference": {
   "wkid": 102384,
   "latestWkid": 6344
  }
 },
 "sortableFields": "",
 "bandCount": 1,
 "pixelType": "U8",
 "minValues": [
  0
 ],
 "maxValues": [
  254
 ],
 "meanValues": [
  178.6629361234224
 ],
 "stdvValues": [
  16.856868789602355
 ],
 "hasMultidimensions": false,
 "pixelSizeX": 0.5,
 "pixelSizeY": 0.5,
 "meanPixelSize": 0.5,
 "datasetFormat": "SDR",
 "uncompressedSize": 12258687340,
 "blockWidth": 128,
 "blockHeight": 128,
 "compressionType": "LZ77",
 "bandNames": [
  "Band_1"
 ],
 "allowCopy": true,
 "allowAnalysis": true,
 "itemAccess": false,
 "inspectionCapabilities": "",
 "minPixelSize": 0,
 "maxPixelSize": 0,
 "copyrightText": "",
 "serviceDataType": "esriImageServiceDataTypeGeneric",
 "serviceSourceType": "esriImageServiceSourceTypeDataset",
 "objectIdField": "",
 "fields": [],
 "capabilities": "Image,Metadata,Mensuration",
 "defaultMosaicMethod": "Center",
 "allowedMosaicMethods": "",
 "sortField": "",
 "sortValue": null,
 "sortAscending": true,
 "mosaicOperator": "First",
 "defaultCompressionQuality": 75,
 "defaultResamplingMethod": "Bilinear",
 "maxImageHeight": 4100,
 "maxImageWidth": 15000,
 "allowRasterFunction": true,
 "rasterFunctionInfos": [
  {
   "name": "None",
   "description": "",
   "help": ""
  }
 ],
 "rasterTypeInfos": [
  {
   "name": "Raster Dataset",
   "description": "Supports all ArcGIS Raster Datasets",
   "help": ""
  }
 ],
 "mensurationCapabilities": "Basic",
 "hasHistograms": true,
 "hasColormap": false,
 "hasRasterAttributeTable": true,
 "minScale": 0,
 "maxScale": 0,
 "exportTilesAllowed": false,
 "supportsStatistics": false,
 "supportsAdvancedQueries": false,
 "editFieldsInfo": null,
 "ownershipBasedAccessControlForRasters": null,
 "allowComputeTiePoints": false,
 "useStandardizedQueries": true,
 "advancedQueryCapabilities": {
  "useStandardizedQueries": true,
  "supportsStatistics": false,
  "supportsOrderBy": false,
  "supportsDistinct": false,
  "supportsPagination": false
 },
 "spatialReference": {
  "wkid": 102384,
  "latestWkid": 6344
 }
}
